BEGIN:VCALENDAR
VERSION:2.0
PRODID:-//eventon.com NONSGML v1.0//EN
CALSCALE:GREGORIAN
METHOD:PUBLISH
BEGIN:VEVENT
UID:69ea9cc87fdd9
DTSTAMP:20260423T222720Z
DTSTART:20201109
DTEND:20201110
LOCATION:
SUMMARY:Cérémonies commémoratives du 9 novembre 2020
DESCRIPTION:Commémorations nationales de l’anniversaire des 50 ans de la
  disparition du général de Gaulle.\nhttps://www.charles-de-gaulle.org/blo
 g/events/conference-test-copy-copy-copy-copy-copy/
URL:https://www.charles-de-gaulle.org/blog/events/conference-test-copy-copy-copy-copy-copy/
END:VEVENT
END:VCALENDAR