BEGIN:VCALENDAR
VERSION:2.0
PRODID:-//eventon.com NONSGML v1.0//EN
CALSCALE:GREGORIAN
METHOD:PUBLISH
BEGIN:VEVENT
UID:69e8a20e4a86b
DTSTAMP:20260422T102518Z
DTSTART:20210209T080000Z
DTEND:20210209T153000Z
LOCATION:AcadÃ©mie des sciences dâ€™outre-mer Paris
SUMMARY:Webinaire "De Gaulle et le Grand large\,  une ambition mondiale pour la France"
DESCRIPTION:HervÃ© GaymardPrÃ©sident de la Fondation Charles de Gaulle Pier
 re GÃ©nySecrÃ©taire perpÃ©tuel de lâ€™AcadÃ©mie des sciences dâ€™outre-mer 
 vous prient d&rsquo;assister Ã  la deuxiÃ¨me journÃ©e du webinaire DE GAULL
 E ET LE GRAND LARGE\, UNE AMBITION MONDIALE POUR LA FRANCE\, D&rsquo;HIER Ã
 € AUJOURD&rsquo;HUI qui portera sur le thÃ¨me : Â«Â Les Outre-Mer\,  quelle
  placedans lâ€™action internationale[..]\nhttps://www.charles-de-gaulle.org
 /blog/events/webinaire-de-gaulle-et-le-grand-large-une-ambition-mondiale-po
 ur-la-france/
URL:https://www.charles-de-gaulle.org/blog/events/webinaire-de-gaulle-et-le-grand-large-une-ambition-mondiale-pour-la-france/
END:VEVENT
END:VCALENDAR