BEGIN:VCALENDAR
VERSION:2.0
PRODID:-//eventon.com NONSGML v1.0//EN
CALSCALE:GREGORIAN
METHOD:PUBLISH
BEGIN:VEVENT
UID:69e6dc6634a12
DTSTAMP:20260421T020942Z
DTSTART:20240320T170000Z
DTEND:20240320T183000Z
LOCATION:Fondation Charles de Gaulle\,  5 Rue de Solférino Paris
SUMMARY:Soirée "De Gaulle\,  le sport et les sportifs : aux sources du projet olympique français"
DESCRIPTION:Soirée "De Gaulle\,  le sport et les sportifs : aux sources d
 u projet olympique français"\nhttps://www.charles-de-gaulle.org/blog/even
 ts/soiree-de-gaulle-le-sport-et-les-sportifs-aux-sources-du-projet-olympiqu
 e-franc%cc%a7ais/
URL:https://www.charles-de-gaulle.org/blog/events/soiree-de-gaulle-le-sport-et-les-sportifs-aux-sources-du-projet-olympique-franc%cc%a7ais/
END:VEVENT
END:VCALENDAR